Workbook

Sheet THỰC ĐƠN
A1: TRƯỜNG PTDTNT THCS VÀ THPT VĨNH THẠNH
A2: THỰC ĐƠN ĂN HỌC SINH DÂN TỘC NỘI TRÚ NĂM HỌC 2026-2027
A3: TUẦN 5 - Từ ngày 05/10/2026 - 11/10/2026
A5: Số suất ăn/ngày | C5: 223 | D5: Số ngày | F5: 7
A6: Tiền ăn/suất/ngày | C6: 56000 | D6: Tổng suất ăn/tuần | F6: =C5*F5 -> 1561
A7: Tổng tiền ăn/ngày | C7: =C5*C6 -> 12488000 | D7: Tổng tiền ăn/tuần | F7: =C7*F5 -> 87416000
A9: STT | B9: Ngày | C9: Bữa sáng | D9: Bữa trưa | E9: Bữa chiều | F9: Ghi chú
A10: 1 | B10: Thứ Hai | C10: Mì tôm thịt nạc, trứng cút | D10: Canh bí đao nấu thịt Thịt kho tôm Cá chim kho sả Su su xào thịt bò | E10: Canh bầu nấu tôm Thịt kho đậu Cá ngừ sốt cà chua Rau cải xào thịt nạc
A11: 2 | B11: Thứ Ba | C11: Bánh canh xương heo, thịt nạc, chả cá | D11: Canh bí đỏ nấu thịt Thịt gà kho sả Mực xào Rau muống xào thịt nạc | E11: Canh chua đầu cá hồi Thịt xào lăn Cá nục sốt cà chua Dưa leo xào thịt nạc
A12: 3 | B12: Thứ Tư | C12: Nui xào thịt bò - rau củ | D12: Canh đu đủ nấu xương heo Thịt kho tôm Cá basa kho sả Bắp sú xào thịt nạc | E12: Canh bí xanh nấu thịt Thịt kho dưa cải Cá ngừ lớn kho ngọt Su su xào thịt bò
A13: 4 | B13: Thứ Năm | C13: Bánh hỏi, lòng heo, thịt heo luộc | D13: Canh mướp nấu tôm Thịt gà kho sả Cá Bạt má kho Dưa leo xào thịt nạc | E13: Canh cải thảo nấu thịt Thịt xào lăn Cá ngừ sốt cà Bún, giá xào thịt nạc
A14: 5 | B14: Thứ Sáu | C14: Mì tôm nấu thịt bò | D14: Canh bầu nấu tôm Thịt heo kho chả Mực xào Đậu Hà Lan xào thịt bò | E14: Canh cải nấu thịt Thịt kho trứng Cá nục kho ngọt Cà xào thịt nạc
A15: 6 | B15: Thứ Bảy | C15: Bún- nước thịt | D15: Canh bí đỏ nấu thịt Thịt kho đậu Cá chim kho Bắp sú xào thịt nạc | E15: Canh bí đao nấu xương heo Thịt kho măng Cá ngừ sốt cà Cải ngọt xào thịt nạc
A16: 7 | B16: Chủ nhật | C16: Phở bò - Trứng cút | D16: Canh mướp nấu tôm Thịt gà kho sả Cá hố kho Dưa leo xào thịt nạc | E16: Canh đu đủ nấu xương Thịt xào lăn Cá nục sốt cà Bún, giá xào thịt nạc
A18: Lưu ý: Thực đơn có thể điều chỉnh theo nguồn thực phẩm thực tế nhưng phải bảo đảm định lượng, dinh dưỡng và an toàn thực phẩm.
B19: PHÓ HIỆU TRƯỞNG | E19: Tổ trưởng Tổ QLNT
B24: Đặng Thanh May | E24: Đinh Văn Toàn

Sheet Tổng hợp tuần
A1: TRƯỜNG PTDTNT THCS VÀ THPT VĨNH THẠNH
A2: 7TỔNG HỢP PHÂN RÃ KINH PHÍ THỰC ĐƠN THEO NGÀY (TUẦN 05: Từ 05/10 - 11/10/2026) NĂM HỌC 2026-2027
A3: Mẫu thực đơn tuần áp dụng lặp lại – Khối THCS
A5: STT | B5: Ngày | C5: Số suất | D5: Mức ăn/suất | E5: Tiền thực phẩm | F5: Chất đốt (Gas) | G5: Tổng kinh phí | H5: Chênh lệch
A6: 1 | B6: Thứ Hai | C6: 223 | D6: 56000 | E6: ='T2'!F2 -> 12042000 | F6: ='T2'!F3 -> 446000 | G6: ='T2'!F4 -> 12488000 | H6: =G6-C6*D6 -> 0
A7: 2 | B7: Thứ Ba | C7: 223 | D7: 56000 | E7: ='T3'!F2 -> 12042000 | F7: ='T3'!F3 -> 446000 | G7: ='T3'!F4 -> 12488000 | H7: =G7-C7*D7 -> 0
A8: 3 | B8: Thứ Tư | C8: 223 | D8: 56000 | E8: ='T4'!F2 -> 12042000 | F8: ='T4'!F3 -> 446000 | G8: ='T4'!F4 -> 12488000 | H8: =G8-C8*D8 -> 0
A9: 4 | B9: Thứ Năm | C9: 223 | D9: 56000 | E9: ='T5'!F4 -> 12042000 | F9: ='T5'!F5 -> 446000 | G9: ='T5'!F6 -> 12488000 | H9: =G9-C9*D9 -> 0
A10: 5 | B10: Thứ Sáu | C10: 223 | D10: 56000 | E10: ='T6'!F2 -> 12042000 | F10: ='T6'!F3 -> 446000 | G10: ='T6'!F4 -> 12488000 | H10: =G10-C10*D10 -> 0
A11: 6 | B11: Thứ Bảy | C11: 223 | D11: 56000 | E11: ='T7'!F2 -> 12042000 | F11: ='T7'!F3 -> 446000 | G11: ='T7'!F4 -> 12488000 | H11: =G11-C11*D11 -> 0
A12: 7 | B12: Chủ nhật | C12: 223 | D12: 56000 | E12: =CN!F2 -> 12042000 | F12: =CN!F3 -> 446000 | G12: =CN!F4 -> 12488000 | H12: =G12-C12*D12 -> 0
A13: TỔNG CỘNG TUẦN | E13: =SUM(E6:E12) -> 84294000 | F13: =SUM(F6:F12) -> 3122000 | G13: =SUM(G6:G12) -> 87416000 | H13: =SUM(H6:H12) -> 0
A15: Ghi chú: Tiền thực phẩm là 54.000 đồng/học sinh/ngày; kinh phí chất đốt (Gas) là 2000 đồng/học sinh/ngày. Tổng mức ăn: 56.000 đồng/học sinh/ngày. Với 223 học sinh, chi phí Gas là 446.000 đồng/ngày và 3.122.000 đồng/tuần.
C17: PHÓ HIỆU TRƯỞNG | G17: Tổ trưởng Tổ QLNT
C22: Đặng Thanh May | G22: Đinh Văn Toàn

Sheet T2
A1: PHÂN RÃ THỰC ĐƠN CHI TIẾT THỨ HAI (05/10/2026)
A2: Theo bảng giá chi tiết | F2: =SUM(G8:G31) -> 12042000
A3: Chất đốt (Gas): 2000 đồng/học sinh/ngày | F3: =$B$5*2000 -> 446000
A4: Tổng kinh phí trong ngày | F4: =F2+F3 -> 12488000
A5: Số suất | B5: 223 | C5: Mức ăn/suất | D5: 56000 | E5: Dự toán ngày | F5: =B5*D5 -> 12488000
A6: Thực đơn: Sáng: Mì tôm thịt nạc, trứng cút | Trưa: Canh bí đao nấu thịt; Thịt kho tôm; Cá chim kho sả; Su su xào thịt bò | Chiều: Canh bầu nấu tôm; Thịt kho đậu; Cá ngừ sốt cà chua; Rau cải xào thịt nạc
A7: STT | B7: Bữa ăn | C7: Tên thực phẩm | D7: ĐVT | E7: Số lượng | F7: Đơn giá | G7: Thành tiền
A8: 1 | B8: Bữa sáng | C8: Mì tôm nước thịt | D8: Gói | E8: 223 | F8: 5000 | G8: =E8*F8 -> 1115000
A9: 2 | B9: Bữa sáng | C9: Thịt nạc | D9: kg | E9: 9 | F9: 125000 | G9: =E9*F9 -> 1125000
A10: 3 | B10: Bữa sáng | C10: Trứng cút | D10: kg | E10: 400 | F10: 700 | G10: =E10*F10 -> 280000
A11: 4 | B11: Bữa sáng | C11: Gia vị | G11: 44500
A12: 5 | B12: Bữa trưa + chiều | C12: Bí đao | D12: Kg | E12: 19 | F12: 11000 | G12: =E12*F12 -> 209000
A13: 6 | B13: Bữa trưa + chiều | C13: Bầu | D13: Kg | E13: 19 | F13: 12000 | G13: =E13*F13 -> 228000
A14: 7 | B14: Bữa trưa + chiều | C14: Susu | D14: Kg | E14: 20 | F14: 12000 | G14: =E14*F14 -> 240000
A15: 8 | B15: Bữa trưa + chiều | C15: Rau cải | D15: Kg | E15: 20 | F15: 12000 | G15: =E15*F15 -> 240000
A16: 9 | B16: Bữa trưa + chiều | C16: Rau nêm | D16: Bó | E16: 4 | F16: 6000 | G16: =E16*F16 -> 24000
A17: 10 | B17: Bữa trưa + chiều | C17: Thịt ba chỉ | D17: Kg | E17: 25 | F17: 115000 | G17: =E17*F17 -> 2875000
A18: 11 | B18: Bữa trưa + chiều | C18: Thịt nạt | D18: Kg | E18: 4.5 | F18: 125000 | G18: =E18*F18 -> 562500
A19: 12 | B19: Bữa trưa + chiều | C19: Thịt bò | D19: Kg | E19: 1.5 | F19: 240000 | G19: =E19*F19 -> 360000
A20: 13 | B20: Bữa trưa + chiều | C20: Đậu khuôn | D20: miếng | E20: 70 | F20: 6000 | G20: =E20*F20 -> 420000
A21: 14 | B21: Bữa trưa + chiều | C21: Cá chim | D21: Kg | E21: 17 | F21: 65000 | G21: =E21*F21 -> 1105000
A22: 15 | B22: Bữa trưa + chiều | C22: Cá ngừ nhỏ tươi | D22: Kg | E22: 17 | F22: 65000 | G22: =E22*F22 -> 1105000
A23: 16 | B23: Bữa trưa + chiều | C23: Tôm nhỏ | D23: Kg | E23: 3 | F23: 140000 | G23: =E23*F23 -> 420000
... A29: 22 | B29: Bữa trưa + chiều | C29: Đường | D29: Kg | E29: 1.3 | F29: 27000 | G29: =E29*F29 -> 35100
A30: 23 | B30: Bữa trưa + chiều | C30: Hành, tiêu, ớt, tỏi… | G30: 184900
A31: 24 | B31: Bữa trưa + chiều | C31: Nước rửa chén | D31: Lít | E31: 2 | F31: 12000 | G31: =E31*F31 -> 24000
A32: CỘNG THEO BẢNG GIÁ CHI TIẾT | G32: =SUM(G8:G31) -> 12042000
A33: CHI PHÍ CHẤT ĐỐT (GAS): 2000 ĐỒNG/HỌC SINH/NGÀY | G33: =$B$5*2000 -> 446000
A34: TỔNG KINH PHÍ NGÀY | G34: =G32+G33 -> 12488000
A36: Lưu ý: Các dòng có ĐVT “Khoán” là khoản gia vị/rau thơm theo số tiền trọn gói trong bảng giá gốc. Chi phí chất đốt (Gas) được tính riêng: 223 học sinh × 2000 đồng = 446.000 đồng/ngày.

Sheet T3
A1: PHÂN RÃ THỰC ĐƠN CHI TIẾT THỨ BA (06/10/2026)
A2: Theo bảng giá chi tiết | F2: =SUM(G8:G33) -> 12042000
A3: Chất đốt (Gas): 2000 đồng/học sinh/ngày | F3: =$B$5*2000 -> 446000
A4: Tổng kinh phí trong ngày | F4: =F2+F3 -> 12488000
A5: Số suất | B5: 223 | C5: Mức ăn/suất | D5: 56000 | E5: Dự toán ngày | F5: =B5*D5 -> 12488000
A6: Thực đơn: Sáng: Bánh canh xương heo, chả cá | Trưa: Canh bí đỏ nấu thịt; Thịt gà kho sả; Mực xào; Rau muống xào thịt nạc| Chiều: Canh chua đầu cá hồi; Thịt xào lăn; Cá nục sốt cà chua; Dưa leo xào thịt nạc
A7: STT | B7: Bữa ăn | C7: Tên thực phẩm | D7: ĐVT | E7: Số lượng | F7: Đơn giá | G7: Thành tiền
A8: 1 | B8: Bữa sáng | C8: Bánh Canh | D8: Kg | E8: 46 | F8: 18000 | G8: =E8*F8 -> 828000
A9: 2 | B9: Bữa sáng | C9: Trứng Cút | D9: Qủa | E9: 224 | F9: 700 | G9: =E9*F9 -> 156800
A10: 3 | B10: Bữa sáng | C10: Chả cá | D10: Kg | E10: 7 | F10: 110000 | G10: =E10*F10 -> 770000
A11: 4 | B11: Bữa sáng | C11: Xương heo | D11: Kg | E11: 8 | F11: 80000 | G11: =E11*F11 -> 640000
A12: 5 | B12: Bữa sáng | C12: Gia vị | G12: 169700
A13: 6 | B13: Bữa trưa + chiều | C13: Bí đỏ | D13: Kg | E13: 19 | F13: 12000 | G13: =E13*F13 -> 228000
A14: 7 | B14: Bữa trưa + chiều | C14: Cà chua | D14: Kg | E14: 4 | F14: 20000 | G14: =E14*F14 -> 80000
A15: 8 | B15: Bữa trưa + chiều | C15: Giá | D15: Kg | E15: 4 | F15: 15000 | G15: =E15*F15 -> 60000
A16: 9 | B16: Bữa trưa + chiều | C16: Lá giang | D16: Kg | E16: 3 | F16: 16000 | G16: =E16*F16 -> 48000
A17: 10 | B17: Bữa trưa + chiều | C17: Rau nêm | D17: Bó | E17: 4 | F17: 6000 | G17: =E17*F17 -> 24000
A18: 11 | B18: Bữa trưa + chiều | C18: Rau muống | D18: Kg | E18: 20 | F18: 12000 | G18: =E18*F18 -> 240000
A19: 12 | B19: Bữa trưa + chiều | C19: Dưa leo | D19: Kg | E19: 20 | F19: 12000 | G19: =E19*F19 -> 240000
A20: 13 | B20: Bữa trưa + chiều | C20: Thịt ba chỉ | D20: Kg | E20: 21 | F20: 115000 | G20: =E20*F20 -> 2415000
A21: 14 | B21: Bữa trưa + chiều | C21: Thịt nạt | D21: Kg | E21: 4.5 | F21: 125000 | G21: =E21*F21 -> 562500
A22: 15 | B22: Bữa trưa + chiều | C22: Thịt gà loại 2 | D22: Kg | E22: 19 | F22: 95000 | G22: =E22*F22 -> 1805000
A23: 16 | B23: Bữa trưa + chiều | C23: Thịt bò | D23: Kg | E23: 1.5 | F23: 240000 | G23: =E23*F23 -> 360000
A24: 17 | B24: Bữa trưa + chiều | C24: Cá nục tươi | D24: Kg | E24: 17 | F24: 70000 | G24: =E24*F24 -> 1190000
... A31: 24 | B31: Bữa trưa + chiều | C31: Đường | D31: Kg | E31: 1.3 | F31: 27000 | G31: =E31*F31 -> 35100
A32: 25 | B32: Bữa trưa + chiều | C32: Hành, tiêu, ớt, tỏi… | G32: 200900
A33: 26 | B33: Bữa trưa + chiều | C33: Nước rửa chén | D33: Lít | E33: 2 | F33: 12000 | G33: =E33*F33 -> 24000
A34: CỘNG THEO BẢNG GIÁ CHI TIẾT | G34: =SUM(G8:G33) -> 12042000
A35: CHI PHÍ CHẤT ĐỐT (GAS): 2000 ĐỒNG/HỌC SINH/NGÀY | G35: =$B$5*2000 -> 446000
A36: TỔNG KINH PHÍ NGÀY | G36: =G34+G35 -> 12488000
A38: Lưu ý: Các dòng có ĐVT “Khoán” là khoản gia vị/rau thơm theo số tiền trọn gói trong bảng giá gốc. Chi phí chất đốt (Gas) được tính riêng: 223 học sinh × 2000 đồng = 446.000 đồng/ngày.

Sheet T4
A1: PHÂN RÃ THỰC ĐƠN CHI TIẾT THỨ TƯ (07/10/2026)
A2: Theo bảng giá chi tiết | F2: =SUM(G8:G32) -> 12042000
A3: Chất đốt (Gas): 2000 đồng/học sinh/ngày | F3: =$B$5*2000 -> 446000
A4: Tổng kinh phí trong ngày | F4: =F2+F3 -> 12488000
A5: Số suất | B5: 223 | C5: Mức ăn/suất | D5: 56000 | E5: Dự toán ngày | F5: =B5*D5 -> 12488000
A6: Thực đơn: Sáng: Nui xào thịt bò -rau củ | Trưa: Canh đu đủ nấu xương heo; Thịt kho tôm; Cá basa kho sả; Bắp sú xào thịt nạc | Chiều: Canh bí xanh nấu thịt; Thịt kho dưa cải; Cá ngừ kho ngọt; Su su xào thịt bò
A7: STT | B7: Bữa ăn | C7: Tên thực phẩm | D7: ĐVT | E7: Số lượng | F7: Đơn giá | G7: Thành tiền
A8: 1 | B8: Bữa sáng | C8: Nui | D8: Kg | E8: 30 | F8: 30000 | G8: =E8*F8 -> 900000
A9: 2 | B9: Bữa sáng | C9: Thịt bò | D9: Kg | E9: 6 | F9: 240000 | G9: =E9*F9 -> 1440000
A10: 3 | B10: Bữa sáng | C10: Hành tây | D10: Kg | E10: 4 | F10: 15000 | G10: =E10*F10 -> 60000
A11: 4 | B11: Bữa sáng | C11: Cà chua | D11: Kg | E11: 4 | F11: 20000 | G11: =E11*F11 -> 80000
A12: 5 | B12: Bữa sáng | C12: Gia vị, rau thơm | D12: Kg | G12: 84500
A13: 6 | B13: Bữa trưa + chiều | C13: Đu đủ | D13: Kg | E13: 20 | F13: 12000 | G13: =E13*F13 -> 240000
A14: 7 | B14: Bữa trưa + chiều | C14: Bí xanh | D14: Kg | E14: 20 | F14: 11000 | G14: =E14*F14 -> 220000
A15: 8 | B15: Bữa trưa + chiều | C15: Su su | D15: Kg | E15: 20 | F15: 12000 | G15: =E15*F15 -> 240000
A16: 9 | B16: Bữa trưa + chiều | C16: Rau nêm | D16: Bó | E16: 4 | F16: 6000 | G16: =E16*F16 -> 24000
A17: 10 | B17: Bữa trưa + chiều | C17: Bắp sú | D17: Kg | E17: 20 | F17: 13000 | G17: =E17*F17 -> 260000
A18: 11 | B18: Bữa trưa + chiều | C18: Dưa cải | D18: Kg | E18: 10 | F18: 13000 | G18: =E18*F18 -> 130000
A19: 12 | B19: Bữa trưa + chiều | C19: Xương Heo | D19: Kg | E19: 5 | F19: 80000 | G19: =E19*F19 -> 400000
A20: 13 | B20: Bữa trưa + chiều | C20: Thịt bò | D20: Kg | E20: 1.5 | F20: 240000 | G20: =E20*F20 -> 360000
A21: 14 | B21: Bữa trưa + chiều | C21: Thịt nạt | D21: Kg | E21: 4.5 | F21: 125000 | G21: =E21*F21 -> 562500
A22: 15 | B22: Bữa trưa + chiều | C22: Thịt ba chỉ | D22: Kg | E22: 26 | F22: 115000 | G22: =E22*F22 -> 2990000
A23: 16 | B23: Bữa trưa + chiều | C23: Tôm lớn | D23: Kg | E23: 6 | F23: 170000 | G23: =E23*F23 -> 1020000
A24: 17 | B24: Bữa trưa + chiều | C24: Cá Ba sa | D24: Kg | E24: 16 | F24: 65000 | G24: =E24*F24 -> 1040000
... A30: 23 | B30: Bữa trưa + chiều | C30: Đường | D30: Kg | E30: 1.3 | F30: 27000 | G30: =E30*F30 -> 35100
A31: 24 | B31: Bữa trưa + chiều | C31: Hành, tiêu, ớt, tỏi… | G31: 226900
A32: 25 | B32: Bữa trưa + chiều | C32: Nước rửa chén | D32: Lít | E32: 2 | F32: 12000 | G32: =E32*F32 -> 24000
A33: CỘNG THEO BẢNG GIÁ CHI TIẾT | G33: =SUM(G8:G32) -> 12042000
A34: CHI PHÍ CHẤT ĐỐT (GAS): 2000 ĐỒNG/HỌC SINH/NGÀY | G34: =$B$5*2000 -> 446000
A35: TỔNG KINH PHÍ NGÀY | G35: =G33+G34 -> 12488000
A37: Lưu ý: Các dòng có ĐVT “Khoán” là khoản gia vị/rau thơm theo số tiền trọn gói trong bảng giá gốc. Chi phí chất đốt (Gas) được tính riêng: 223 học sinh × 2000 đồng = 446.000 đồng/ngày.

Sheet T5
A1: SỞ GIÁO DỤC ĐÀO TẠO TỈNH GIA LAI | E1: CỘNG HÒA XÃ HỘI CHỦ NGHĨA VIỆT NAM
A2: TRƯỜNG PTDTNT THCS VÀ THPT VĨNH THẠNH | E2: Độc lập - Tự do - Hạnh phúc
A3: PHÂN RÃ CHI TIẾT THỤC ĐƠN THỨ NĂM (08/10/2026)
A4: Theo bảng giá chi tiết | F4: =SUM(G10:G33) -> 12042000
A5: Chất đốt (Gas): 2000 đồng/học sinh/ngày | F5: =$B$7*2000 -> 446000
A6: Tổng kinh phí trong ngày | F6: =F4+F5 -> 12488000
A7: Số suất | B7: 223 | C7: Mức ăn/suất | D7: 56000 | E7: Dự toán ngày | F7: =B7*D7 -> 12488000
A8: Thực đơn: Sáng: Bánh hỏi, lòng heo, thịt heo luộc | Trưa: Canh mướp nấu tôm; Thịt gà kho sả; Cá Bạt má kho; Dưa leo xào thịt nạc | Chiều: Canh cải thảo nấu thịt; Thịt xào lăn; Cá ngừ sốt cà; Bún, giá xào thịt nạc
A9: STT | B9: Bữa ăn | C9: Tên thực phẩm | D9: ĐVT | E9: Số lượng | F9: Đơn giá | G9: Thành tiền
A10: 1 | B10: Bữa sáng | C10: Bánh hỏi | D10: Kg | E10: 45 | F10: 25000 | G10: =E10*F10 -> 1125000
A11: 2 | B11: Bữa sáng | C11: Lòng heo | D11: Kg | E11: 10 | F11: 60000 | G11: =E11*F11 -> 600000
A12: 3 | B12: Bữa sáng | C12: Thịt ba chỉ | D12: Kg | E12: 6 | F12: 115000 | G12: =E12*F12 -> 690000
A13: 4 | B13: Bữa sáng | C13: Gia vị | G13: 149500
A14: 5 | B14: Bữa trưa + chiều | C14: Mướp | D14: Kg | E14: 19 | F14: 12000 | G14: =E14*F14 -> 228000
A15: 6 | B15: Bữa trưa + chiều | C15: Cải thảo | D15: Kg | E15: 19 | F15: 16000 | G15: =E15*F15 -> 304000
A16: 7 | B16: Bữa trưa + chiều | C16: Cà chua | D16: Kg | E16: 4 | F16: 20000 | G16: =E16*F16 -> 80000
A17: 8 | B17: Bữa trưa + chiều | C17: Dưa leo | D17: Kg | E17: 19 | F17: 12000 | G17: =E17*F17 -> 228000
A18: 9 | B18: Bữa trưa + chiều | C18: Rau nêm | D18: Bó | E18: 4 | F18: 6000 | G18: =E18*F18 -> 24000
A19: 10 | B19: Bữa trưa + chiều | C19: Bún | D19: Kg | E19: 15 | F19: 12000 | G19: =E19*F19 -> 180000
A20: 11 | B20: Bữa trưa + chiều | C20: Gía | D20: Kg | E20: 6 | F20: 15000 | G20: =E20*F20 -> 90000
A21: 12 | B21: Bữa trưa + chiều | C21: Thịt nạt | D21: Kg | E21: 6 | F21: 125000 | G21: =E21*F21 -> 750000
A22: 13 | B22: Bữa trưa + chiều | C22: Thịt ba chỉ | D22: Kg | E22: 21 | F22: 115000 | G22: =E22*F22 -> 2415000
A23: 14 | B23: Bữa trưa + chiều | C23: Thịt gà loại 2 | D23: Kg | E23: 20 | F23: 95000 | G23: =E23*F23 -> 1900000
A24: 15 | B24: Bữa trưa + chiều | C24: Cá Bạc má | D24: Kg | E24: 16 | F24: 70000 | G24: =E24*F24 -> 1120000
A25: 16 | B25: Bữa trưa + chiều | C25: Cá ngừ nhỏ tươi | D25: Kg | E25: 16 | F25: 65000 | G25: =E25*F25 -> 1040000
... A31: 22 | B31: Bữa trưa + chiều | C31: Đường | D31: Kg | E31: 1.3 | F31: 27000 | G31: =E31*F31 -> 35100
A32: 23 | B32: Bữa trưa + chiều | C32: Hành, tiêu, ớt, tỏi… | G32: 214400
A33: 24 | B33: Bữa trưa + chiều | C33: Nước rửa chén | D33: Lít | E33: 2 | F33: 12000 | G33: =E33*F33 -> 24000
A34: CỘNG THEO BẢNG GIÁ CHI TIẾT | G34: =SUM(G10:G33) -> 12042000
A35: CHI PHÍ CHẤT ĐỐT (GAS): 2000 ĐỒNG/HỌC SINH/NGÀY | G35: =$B$7*2000 -> 446000
A36: TỔNG KINH PHÍ NGÀY | G36: =G34+G35 -> 12488000
A38: Lưu ý: Các dòng có ĐVT “Khoán” là khoản gia vị/rau thơm theo số tiền trọn gói trong bảng giá gốc. Chi phí chất đốt (Gas) được tính riêng: 223 học sinh × 2000 đồng = 446.000 đồng/ngày.

Sheet T6
A1: PHÂN RÃ THỰC ĐƠN CHI TIẾT THỨ SÁU (09/10/2026)
A2: Theo bảng giá chi tiết | F2: =SUM(G8:G30) -> 12042000
A3: Chất đốt (Gas): 2000 đồng/học sinh/ngày | F3: =$B$5*2000 -> 446000
A4: Tổng kinh phí trong ngày | F4: =F2+F3 -> 12488000
A5: Số suất | B5: 223 | C5: Mức ăn/suất | D5: 56000 | E5: Dự toán ngày | F5: =B5*D5 -> 12488000
A6: Thực đơn: Sáng: Mì tôm nấu thịt bò | Trưa: Canh bầu nấu tôm; Thịt heo kho chả; Mực xào; Đậu Hà Lan xào thịt bò | Chiều: Canh cải nấu thịt; Thịt kho trứng; Cá nục kho ngọt; Cà xào thịt nạc
A7: STT | B7: Bữa ăn | C7: Tên thực phẩm | D7: ĐVT | E7: Số lượng | F7: Đơn giá | G7: Thành tiền
A8: 1 | B8: Bữa sáng | C8: Mì tôm | D8: Gói | E8: 223 | F8: 5000 | G8: =E8*F8 -> 1115000
A9: 2 | B9: Bữa sáng | C9: Thịt bò | D9: Kg | E9: 5.5 | F9: 240000 | G9: =E9*F9 -> 1320000
A10: 3 | B10: Bữa sáng | C10: Gia vị | D10: Kg | G10: 129500
A11: 4 | B11: Bữa trưa + chiều | C11: Bầu | D11: Kg | E11: 19 | F11: 12000 | G11: =E11*F11 -> 228000
A12: 5 | B12: Bữa trưa + chiều | C12: Rau cải | D12: Kg | E12: 19 | F12: 12000 | G12: =E12*F12 -> 228000
A13: 6 | B13: Bữa trưa + chiều | C13: Đậu Hà lan | D13: Kg | E13: 19 | F13: 16000 | G13: =E13*F13 -> 304000
A14: 7 | B14: Bữa trưa + chiều | C14: Cà | D14: Kg | E14: 19 | F14: 12000 | G14: =E14*F14 -> 228000
A15: 8 | B15: Bữa trưa + chiều | C15: Rau nêm | D15: bó | E15: 4 | F15: 6000 | G15: =E15*F15 -> 24000
A16: 9 | B16: Bữa trưa + chiều | C16: Thịt ba chỉ | D16: Kg | E16: 25 | F16: 115000 | G16: =E16*F16 -> 2875000
A17: 10 | B17: Bữa trưa + chiều | C17: Thịt nạt | D17: Kg | E17: 4.5 | F17: 125000 | G17: =E17*F17 -> 562500
A18: 11 | B18: Bữa trưa + chiều | C18: Thịt bò | D18: Kg | E18: 1.5 | F18: 240000 | G18: =E18*F18 -> 360000
A19: 12 | B19: Bữa trưa + chiều | C19: Trứng | D19: Qủa | E19: 150 | F19: 3500 | G19: =E19*F19 -> 525000
A20: 13 | B20: Bữa trưa + chiều | C20: Cá nục tươi | D20: Kg | E20: 17 | F20: 70000 | G20: =E20*F20 -> 1190000
A21: 14 | B21: Bữa trưa + chiều | C21: Tôm nhỏ | D21: Kg | E21: 3 | F21: 140000 | G21: =E21*F21 -> 420000
A22: 15 | B22: Bữa trưa + chiều | C22: Mực tươi | D22: Kg | E22: 17 | F22: 70000 | G22: =E22*F22 -> 1190000
... A28: 21 | B28: Bữa trưa + chiều | C28: Đường | D28: Kg | E28: 1.3 | F28: 27000 | G28: =E28*F28 -> 35100
A29: 22 | B29: Bữa trưa + chiều | C29: Hành, tiêu, ớt, tỏi… | G29: 195900
A30: 23 | B30: Bữa trưa + chiều | C30: Nước rửa chén | D30: Lít | E30: 2 | F30: 12000 | G30: =E30*F30 -> 24000
A31: CỘNG THEO BẢNG GIÁ CHI TIẾT | G31: =SUM(G8:G30) -> 12042000
A32: CHI PHÍ CHẤT ĐỐT (GAS): 2000 ĐỒNG/HỌC SINH/NGÀY | G32: =$B$5*2000 -> 446000
A33: TỔNG KINH PHÍ NGÀY | G33: =G31+G32 -> 12488000
A35: Lưu ý: Các dòng có ĐVT “Khoán” là khoản gia vị/rau thơm theo số tiền trọn gói trong bảng giá gốc. Chi phí chất đốt (Gas) được tính riêng: 223 học sinh × 2000 đồng = 446.000 đồng/ngày.

Sheet T7
A1: PHÂN RÃ THỰC ĐƠN CHI TIẾT THỨ BẢY (10/10/2026)
A2: Theo bảng giá chi tiết | F2: =SUM(G8:G31) -> 12042000
A3: Chất đốt (Gas): 2000 đồng/học sinh/ngày | F3: =$B$5*2000 -> 446000
A4: Tổng kinh phí trong ngày | F4: =F2+F3 -> 12488000
A5: Số suất | B5: 223 | C5: Mức ăn/suất | D5: 56000 | E5: Dự toán ngày | F5: =B5*D5 -> 12488000
A6: Thực đơn: Sáng: Bún nước thịt; Trưa: Canh bí đỏ nấu thịt; Thịt kho đậu; Cá chim kho; Bắp sú xào thịt nạc| Chiều: Canh bí đao nấu xương heo; Thịt kho măng; Cá ngừ lớn sốt cà; Cải ngọt xào thịt nạc
A7: STT | B7: Bữa ăn | C7: Tên thực phẩm | D7: ĐVT | E7: Số lượng | F7: Đơn giá | G7: Thành tiền
A8: 1 | B8: Bữa sáng | C8: Bún tươi | D8: Kg | E8: 47 | F8: 12000 | G8: =E8*F8 -> 564000
A9: 2 | B9: Bữa sáng | C9: Thịt nạt | D9: Kg | E9: 8 | F9: 125000 | G9: =E9*F9 -> 1000000
A10: 3 | B10: Bữa sáng | C10: Xương heo | D10: Kg | E10: 10 | F10: 80000 | G10: =E10*F10 -> 800000
A11: 4 | B11: Bữa sáng | C11: Gia vị, rau thơm | G11: 200500
A12: 5 | B12: Bữa trưa + chiều | C12: Bí đỏ | D12: Kg | E12: 20 | F12: 12000 | G12: =E12*F12 -> 240000
A13: 6 | B13: Bữa trưa + chiều | C13: Bí đao | D13: Kg | E13: 20 | F13: 11000 | G13: =E13*F13 -> 220000
A14: 7 | B14: Bữa trưa + chiều | C14: Rau cải | D14: Kg | E14: 20 | F14: 12000 | G14: =E14*F14 -> 240000
A15: 8 | B15: Bữa trưa + chiều | C15: Cà chua | D15: Kg | E15: 3 | F15: 20000 | G15: =E15*F15 -> 60000
A16: 9 | B16: Bữa trưa + chiều | C16: Rau nêm | D16: Bó | E16: 4 | F16: 6000 | G16: =E16*F16 -> 24000
A17: 10 | B17: Bữa trưa + chiều | C17: Bắp sú | D17: Kg | E17: 20 | F17: 13000 | G17: =E17*F17 -> 260000
A18: 11 | B18: Bữa trưa + chiều | C18: Măng | D18: Kg | E18: 15 | F18: 17000 | G18: =E18*F18 -> 255000
A19: 12 | B19: Bữa trưa + chiều | C19: Đậu khuôn | D19: Miếng | E19: 80 | F19: 6000 | G19: =E19*F19 -> 480000
A20: 13 | B20: Bữa trưa + chiều | C20: Thịt nạt | D20: Kg | E20: 6 | F20: 125000 | G20: =E20*F20 -> 750000
A21: 14 | B21: Bữa trưa + chiều | C21: Thịt 3 chỉ | D21: Kg | E21: 28 | F21: 115000 | G21: =E21*F21 -> 3220000
A22: 15 | B22: Bữa trưa + chiều | C22: Xương | D22: Kg | E22: 7 | F22: 80000 | G22: =E22*F22 -> 560000
A23: 16 | B23: Bữa trưa + chiều | C23: Cá Chim | D23: Kg | E23: 17 | F23: 65000 | G23: =E23*F23 -> 1105000
... A29: 22 | B29: Bữa trưa + chiều | C29: Đường | D29: Kg | E29: 1.3 | F29: 27000 | G29: =E29*F29 -> 35100
A30: 23 | B30: Bữa trưa + chiều | C30: Hành, tiêu, ớt, tỏi… | G30: 219400
A31: 24 | B31: Bữa trưa + chiều | C31: Nước rửa chén | D31: Lít | E31: 2 | F31: 12000 | G31: =E31*F31 -> 24000
A32: CỘNG THEO BẢNG GIÁ CHI TIẾT | G32: =SUM(G8:G31) -> 12042000
A33: CHI PHÍ CHẤT ĐỐT (GAS): 2000 ĐỒNG/HỌC SINH/NGÀY | G33: =$B$5*2000 -> 446000
A34: TỔNG KINH PHÍ NGÀY | G34: =G32+G33 -> 12488000
A36: Lưu ý: Các dòng có ĐVT “Khoán” là khoản gia vị/rau thơm theo số tiền trọn gói trong bảng giá gốc. Chi phí chất đốt (Gas) được tính riêng: 223 học sinh × 2000 đồng = 446.000 đồng/ngày.

Sheet CN
A1: PHÂN RÃ THỰC ĐƠN CHI TIẾT CHỦ NHẬT (11/10/2026)
A2: Theo bảng giá chi tiết | F2: =SUM(G8:G31) -> 12042000
A3: Chất đốt (Gas): 2000 đồng/học sinh/ngày | F3: =$B$5*2000 -> 446000
A4: Tổng kinh phí trong ngày | F4: =F2+F3 -> 12488000
A5: Số suất | B5: 223 | C5: Mức ăn/suất | D5: 56000 | E5: Dự toán ngày | F5: =B5*D5 -> 12488000
A6: Thực đơn: Sáng: Phỏ bò - Trứng cút | Trưa: Canh mướp nấu tôm; Thịt gà kho sả; Cá hố kho; Dưa leo xào thịt nạc| Chiều: Canh đu đủ nấu xương; Thịt xào lăn; Cá nục sốt cà; Bún, giá xào thịt nạc
A7: STT | B7: Bữa ăn | C7: Tên thực phẩm | D7: ĐVT | E7: Số lượng | F7: Đơn giá | G7: Thành tiền
A8: 1 | B8: Bữa sáng | C8: Phở bò | D8: Kg | E8: 223 | F8: 10000 | G8: =E8*F8 -> 2230000
A9: 2 | B9: Bữa sáng | C9: Trứng cút | D9: quả | E9: 223 | F9: 700 | G9: =E9*F9 -> 156100
A10: 3 | B10: Bữa sáng | C10: Gia vị, rau thơm | G10: 178400
A11: 4 | B11: Bữa trưa + chiều | C11: Mướp | D11: Kg | E11: 19 | F11: 12000 | G11: =E11*F11 -> 228000
A12: 6 | B12: Bữa trưa + chiều | C12: Đu đủ | D12: Kg | E12: 19 | F12: 12000 | G12: =E12*F12 -> 228000
A13: 7 | B13: Bữa trưa + chiều | C13: Dưa leo | D13: Kg | E13: 19 | F13: 12000 | G13: =E13*F13 -> 228000
A14: 8 | B14: Bữa trưa + chiều | C14: Rau thơm | D14: Bó | E14: 3 | F14: 6000 | G14: =E14*F14 -> 18000
A15: 9 | B15: Bữa trưa + chiều | C15: Bún | D15: Kg | E15: 16 | F15: 12000 | G15: =E15*F15 -> 192000
A16: 10 | B16: Bữa trưa + chiều | C16: Gía | D16: Kg | E16: 5 | F16: 15000 | G16: =E16*F16 -> 75000
A17: 11 | B17: Bữa trưa + chiều | C17: Thịt nạt | D17: Kg | E17: 4.5 | F17: 125000 | G17: =E17*F17 -> 562500
A18: 12 | B18: Bữa trưa + chiều | C18: Xương | D18: Kg | E18: 5 | F18: 80000 | G18: =E18*F18 -> 400000
A19: 13 | B19: Bữa trưa + chiều | C19: Thịt 3 chỉ | D19: Kg | E19: 19 | F19: 115000 | G19: =E19*F19 -> 2185000
A20: 14 | B20: Bữa trưa + chiều | C20: Thịt Gà loại 2 | D20: Kg | E20: 18 | F20: 95000 | G20: =E20*F20 -> 1710000
A21: 15 | B21: Bữa trưa + chiều | C21: Cá Hố | D21: Kg | E21: 16 | F21: 80000 | G21: =E21*F21 -> 1280000
A22: 16 | B22: Bữa trưa + chiều | C22: Cá Nục luộc | D22: Kg | E22: 16 | F22: 80000 | G22: =E22*F22 -> 1280000
... A28: 22 | B28: Bữa trưa + chiều | C28: Đường | D28: Kg | E28: 1.3 | F28: 27000 | G28: =E28*F28 -> 35100
A29: 23 | B29: Bữa trưa + chiều | C29: Hành, tiêu, ớt, tỏi… | G29: 186900
A30: 24 | B30: Bữa trưa + chiều | C30: Nước rửa chén | D30: Lít | E30: 2 | F30: 12000 | G30: =E30*F30 -> 24000
A32: CỘNG THEO BẢNG GIÁ CHI TIẾT | G32: =SUM(G8:G31) -> 12042000
A33: CHI PHÍ CHẤT ĐỐT (GAS): 2000 ĐỒNG/HỌC SINH/NGÀY | G33: =$B$5*2000 -> 446000
A34: TỔNG KINH PHÍ NGÀY | G34: =G32+G33 -> 12488000
A36: Lưu ý: Các dòng có ĐVT “Khoán” là khoản gia vị/rau thơm theo số tiền trọn gói trong bảng giá gốc. Chi phí chất đốt (Gas) được tính riêng: 223 học sinh × 2000 đồng = 446.000 đồng/ngày.
